BEGIN:VCALENDAR
VERSION:2.0
PRODID:icalendar-ruby
CALSCALE:GREGORIAN
METHOD:PUBLISH
BEGIN:VEVENT
DTSTAMP:20260422T012413Z
UID:6005ad92-13d7-4ec4-838c-8d5ef16af08f
DTSTART;VALUE=DATE:20211212
DTEND;VALUE=DATE:20211212
DESCRIPTION:Circle City BMX
LOCATION:Westgate Park    100 Recreation Rd Dothan AL 36305 USA
SUMMARY:Race for Life Single
URL:/site/bmx_races/485140
END:VEVENT
END:VCALENDAR
