BEGIN:VCALENDAR
VERSION:2.0
PRODID:icalendar-ruby
CALSCALE:GREGORIAN
METHOD:PUBLISH
BEGIN:VEVENT
DTSTAMP:20260420T143812Z
UID:128f4183-91bb-4614-a776-62e14e1a77ec
DTSTART;VALUE=DATE:20220618
DTEND;VALUE=DATE:20220618
DESCRIPTION:Penticton BMX
LOCATION:630 Munson Mountain Road  Penticton BC V2A 8S5 CAN
SUMMARY:Provincial Race Double
URL:/site/bmx_races/485144
END:VEVENT
END:VCALENDAR
