BEGIN:VCALENDAR
VERSION:2.0
PRODID:icalendar-ruby
CALSCALE:GREGORIAN
METHOD:PUBLISH
BEGIN:VEVENT
DTSTAMP:20260422T185843Z
UID:1ce2bb0a-e9df-4748-909a-ff4074ac6f58
DTSTART;VALUE=DATE:20220510
DTEND;VALUE=DATE:20220510
DESCRIPTION:Southern Maryland BMX
LOCATION:26600 Budds Creek Rd  Mechanicsville MD 20659 USA
SUMMARY:Local Race Single
URL:/site/bmx_races/485783
END:VEVENT
END:VCALENDAR
