BEGIN:VCALENDAR
VERSION:2.0
PRODID:icalendar-ruby
CALSCALE:GREGORIAN
METHOD:PUBLISH
BEGIN:VEVENT
DTSTAMP:20260422T135758Z
UID:a7b7d339-dcb8-4381-bba9-612a4881133a
DTSTART;VALUE=DATE:20220809
DTEND;VALUE=DATE:20220809
DESCRIPTION:Southern Maryland BMX
LOCATION:26600 Budds Creek Rd  Mechanicsville MD 20659 USA
SUMMARY:Local Race Single
URL:/site/bmx_races/485807
END:VEVENT
END:VCALENDAR
