BEGIN:VCALENDAR
VERSION:2.0
PRODID:icalendar-ruby
CALSCALE:GREGORIAN
METHOD:PUBLISH
BEGIN:VEVENT
DTSTAMP:20260422T013125Z
UID:19e3c6aa-6acc-43ec-9336-d984e624842e
DTSTART;VALUE=DATE:20220313
DTEND;VALUE=DATE:20220313
DESCRIPTION:Fountain City BMX
LOCATION:David D. Whetstone Jr. Sports Complex     County Road 4 W Prattvil
 le AL 36066 USA
SUMMARY:Local Race Single
URL:/site/bmx_races/486016
END:VEVENT
END:VCALENDAR
