BEGIN:VCALENDAR
VERSION:2.0
PRODID:icalendar-ruby
CALSCALE:GREGORIAN
METHOD:PUBLISH
BEGIN:VEVENT
DTSTAMP:20260421T210709Z
UID:e8ff3129-7852-4f06-89d2-2fa3a92aa503
DTSTART;VALUE=DATE:20220626
DTEND;VALUE=DATE:20220626
DESCRIPTION:Fountain City BMX
LOCATION:David D. Whetstone Jr. Sports Complex     County Road 4 W Prattvil
 le AL 36066 USA
SUMMARY:Non-Riding Event
URL:/site/bmx_races/486027
END:VEVENT
END:VCALENDAR
