BEGIN:VCALENDAR
VERSION:2.0
PRODID:icalendar-ruby
CALSCALE:GREGORIAN
METHOD:PUBLISH
BEGIN:VEVENT
DTSTAMP:20260419T195227Z
UID:cee3835c-9a94-4ac8-b176-cb1b6babf049
DTSTART;VALUE=DATE:20220814
DTEND;VALUE=DATE:20220814
DESCRIPTION:Fountain City BMX
LOCATION:David D. Whetstone Jr. Sports Complex     County Road 4 W Prattvil
 le AL 36066 USA
SUMMARY:Local Race Single
URL:/site/bmx_races/486033
END:VEVENT
END:VCALENDAR
