BEGIN:VCALENDAR
VERSION:2.0
PRODID:icalendar-ruby
CALSCALE:GREGORIAN
METHOD:PUBLISH
BEGIN:VEVENT
DTSTAMP:20260423T045123Z
UID:235f67d4-e0c3-4c70-81d5-33a803201cf7
DTSTART;VALUE=DATE:20211227
DTEND;VALUE=DATE:20211227
DESCRIPTION:Derby City BMX
LOCATION:3000 Freys Hill Rd  Louisville KY 40241 USA
SUMMARY:Practice
URL:/site/bmx_races/487043
END:VEVENT
END:VCALENDAR
