BEGIN:VCALENDAR
VERSION:2.0
PRODID:icalendar-ruby
CALSCALE:GREGORIAN
METHOD:PUBLISH
BEGIN:VEVENT
DTSTAMP:20260423T030955Z
UID:768c4146-b27b-41ac-9ca7-c7023cc9739a
DTSTART;VALUE=DATE:20221023
DTEND;VALUE=DATE:20221023
DESCRIPTION:Rockford BMX
LOCATION:4950 Safford Rd  Rockford IL 61101 USA
SUMMARY:Local Race Single
URL:/site/bmx_races/487192
END:VEVENT
END:VCALENDAR
