BEGIN:VCALENDAR
VERSION:2.0
PRODID:icalendar-ruby
CALSCALE:GREGORIAN
METHOD:PUBLISH
BEGIN:VEVENT
DTSTAMP:20260420T114119Z
UID:a794cb30-aab9-4578-9812-f9e09401c3c5
DTSTART;VALUE=DATE:20211230
DTEND;VALUE=DATE:20211230
DESCRIPTION:Yukon BMX
LOCATION:Taylor Park Sports Complex   410 N 11th St Yukon OK 73064 USA
SUMMARY:Practice
URL:/site/bmx_races/487194
END:VEVENT
END:VCALENDAR
