BEGIN:VCALENDAR
VERSION:2.0
PRODID:icalendar-ruby
CALSCALE:GREGORIAN
METHOD:PUBLISH
BEGIN:VEVENT
DTSTAMP:20260424T130408Z
UID:bf91a686-bbb6-41ae-8bf8-5235ae7bef32
DTSTART;VALUE=DATE:20220805
DTEND;VALUE=DATE:20220805
DESCRIPTION:Rusty Bowl BMX
LOCATION:1281 E Gobbi St  Ukiah CA 95482 USA
SUMMARY:Local Race Single
URL:/site/bmx_races/487397
END:VEVENT
END:VCALENDAR
