BEGIN:VCALENDAR
VERSION:2.0
PRODID:icalendar-ruby
CALSCALE:GREGORIAN
METHOD:PUBLISH
BEGIN:VEVENT
DTSTAMP:20260423T175835Z
UID:d18cbd95-d9a7-4795-8587-8b0de6740475
DTSTART;VALUE=DATE:20221002
DTEND;VALUE=DATE:20221002
DESCRIPTION:Rusty Bowl BMX
LOCATION:1281 E Gobbi St  Ukiah CA 95482 USA
SUMMARY:Local Race Single
URL:/site/bmx_races/487421
END:VEVENT
END:VCALENDAR
