BEGIN:VCALENDAR
VERSION:2.0
PRODID:icalendar-ruby
CALSCALE:GREGORIAN
METHOD:PUBLISH
BEGIN:VEVENT
DTSTAMP:20260423T224223Z
UID:93eef47b-e891-4e42-8b71-33ae044fc1d1
DTSTART;VALUE=DATE:20130623
DTEND;VALUE=DATE:20130623
DESCRIPTION:Richfield Park BMX
LOCATION:6550 N Irish Road  Davison MI 48423 USA
SUMMARY:Local Race Single
URL:/site/bmx_races/48750
END:VEVENT
END:VCALENDAR
