BEGIN:VCALENDAR
VERSION:2.0
PRODID:icalendar-ruby
CALSCALE:GREGORIAN
METHOD:PUBLISH
BEGIN:VEVENT
DTSTAMP:20260423T025201Z
UID:e560b437-2c05-434b-8adf-eb79461804dc
DTSTART;VALUE=DATE:20221118
DTEND;VALUE=DATE:20221118
DESCRIPTION:Boomtown BMX
LOCATION:17760 Shasta Dam Blvd  Shasta Lake CA 96019 USA
SUMMARY:Local Race Single
URL:/site/bmx_races/487796
END:VEVENT
END:VCALENDAR
