BEGIN:VCALENDAR
VERSION:2.0
PRODID:icalendar-ruby
CALSCALE:GREGORIAN
METHOD:PUBLISH
BEGIN:VEVENT
DTSTAMP:20260421T072948Z
UID:6a9ada9e-181b-4877-97b1-829534d91f28
DTSTART;VALUE=DATE:20220119
DTEND;VALUE=DATE:20220119
DESCRIPTION:Ed Fountain Park BMX Raceway
LOCATION:1400 N Decatur Blvd  Las Vegas NV 89108 USA
SUMMARY:Clinic
URL:/site/bmx_races/488750
END:VEVENT
END:VCALENDAR
