BEGIN:VCALENDAR
VERSION:2.0
PRODID:icalendar-ruby
CALSCALE:GREGORIAN
METHOD:PUBLISH
BEGIN:VEVENT
DTSTAMP:20260421T003758Z
UID:a3a85ff5-d15e-4050-81be-5b73c16e54e0
DTSTART;VALUE=DATE:20220510
DTEND;VALUE=DATE:20220510
DESCRIPTION:Ed Fountain Park BMX Raceway
LOCATION:1400 N Decatur Blvd  Las Vegas NV 89108 USA
SUMMARY:Practice
URL:/site/bmx_races/488769
END:VEVENT
END:VCALENDAR
