BEGIN:VCALENDAR
VERSION:2.0
PRODID:icalendar-ruby
CALSCALE:GREGORIAN
METHOD:PUBLISH
BEGIN:VEVENT
DTSTAMP:20260420T192917Z
UID:ecedff64-dead-48bc-b8ad-8b2a12c0bee2
DTSTART;VALUE=DATE:20220830
DTEND;VALUE=DATE:20220830
DESCRIPTION:Ed Fountain Park BMX Raceway
LOCATION:1400 N Decatur Blvd  Las Vegas NV 89108 USA
SUMMARY:Practice
URL:/site/bmx_races/488785
END:VEVENT
END:VCALENDAR
