BEGIN:VCALENDAR
VERSION:2.0
PRODID:icalendar-ruby
CALSCALE:GREGORIAN
METHOD:PUBLISH
BEGIN:VEVENT
DTSTAMP:20260420T130116Z
UID:425e3013-12ef-4179-a9a4-0037ab8d2ba7
DTSTART;VALUE=DATE:20221228
DTEND;VALUE=DATE:20221228
DESCRIPTION:Ed Fountain Park BMX Raceway
LOCATION:1400 N Decatur Blvd  Las Vegas NV 89108 USA
SUMMARY:Clinic
URL:/site/bmx_races/488912
END:VEVENT
END:VCALENDAR
