BEGIN:VCALENDAR
VERSION:2.0
PRODID:icalendar-ruby
CALSCALE:GREGORIAN
METHOD:PUBLISH
BEGIN:VEVENT
DTSTAMP:20260422T123318Z
UID:9bc39547-63d4-43cf-9043-c806f09c80db
DTSTART;VALUE=DATE:20220513
DTEND;VALUE=DATE:20220513
DESCRIPTION:Bellflower BMX
LOCATION:9030 Somerset Blvd  Bellflower CA 90706 USA
SUMMARY:Local Race Single
URL:/site/bmx_races/489045
END:VEVENT
END:VCALENDAR
