BEGIN:VCALENDAR
VERSION:2.0
PRODID:icalendar-ruby
CALSCALE:GREGORIAN
METHOD:PUBLISH
BEGIN:VEVENT
DTSTAMP:20260423T025949Z
UID:d14a4b6f-cd1d-46c2-a664-45ec331c7329
DTSTART;VALUE=DATE:20220219
DTEND;VALUE=DATE:20220219
DESCRIPTION:Desoto BMX
LOCATION:Grimes Park 500 E. Centre Park Blvd Desoto TX 75115 USA
SUMMARY:Local Race Single
URL:/site/bmx_races/489086
END:VEVENT
END:VCALENDAR
