BEGIN:VCALENDAR
VERSION:2.0
PRODID:icalendar-ruby
CALSCALE:GREGORIAN
METHOD:PUBLISH
BEGIN:VEVENT
DTSTAMP:20260420T232337Z
UID:09b5be90-3fe7-4b10-ba45-feb543243a81
DTSTART;VALUE=DATE:20220210
DTEND;VALUE=DATE:20220210
DESCRIPTION:Goodyear BMX Raceway
LOCATION:15660 W Roeser Rd  Goodyear AZ 85338 USA
SUMMARY:Practice
URL:/site/bmx_races/490153
END:VEVENT
END:VCALENDAR
