BEGIN:VCALENDAR
VERSION:2.0
PRODID:icalendar-ruby
CALSCALE:GREGORIAN
METHOD:PUBLISH
BEGIN:VEVENT
DTSTAMP:20260420T180005Z
UID:69d87244-187d-4ddd-a54b-1044e13c0cd5
DTSTART;VALUE=DATE:20220512
DTEND;VALUE=DATE:20220512
DESCRIPTION:Goodyear BMX Raceway
LOCATION:15660 W Roeser Rd  Goodyear AZ 85338 USA
SUMMARY:Practice
URL:/site/bmx_races/490166
END:VEVENT
END:VCALENDAR
