BEGIN:VCALENDAR
VERSION:2.0
PRODID:icalendar-ruby
CALSCALE:GREGORIAN
METHOD:PUBLISH
BEGIN:VEVENT
DTSTAMP:20260419T155454Z
UID:92f38322-d722-484f-b4bf-e4ecd6514874
DTSTART;VALUE=DATE:20220130
DTEND;VALUE=DATE:20220130
DESCRIPTION:Duke City BMX
LOCATION:1011 Buena Vista Dr Se  Albuquerque NM 87106 USA
SUMMARY:Local Race Single
URL:/site/bmx_races/490283
END:VEVENT
END:VCALENDAR
