BEGIN:VCALENDAR
VERSION:2.0
PRODID:icalendar-ruby
CALSCALE:GREGORIAN
METHOD:PUBLISH
BEGIN:VEVENT
DTSTAMP:20260419T161424Z
UID:0984ad61-7a31-4bfc-a892-4efe23cfe7fa
DTSTART;VALUE=DATE:20220410
DTEND;VALUE=DATE:20220410
DESCRIPTION:Duke City BMX
LOCATION:1011 Buena Vista Dr Se  Albuquerque NM 87106 USA
SUMMARY:Local Race Single
URL:/site/bmx_races/490293
END:VEVENT
END:VCALENDAR
