BEGIN:VCALENDAR
VERSION:2.0
PRODID:icalendar-ruby
CALSCALE:GREGORIAN
METHOD:PUBLISH
BEGIN:VEVENT
DTSTAMP:20260419T155529Z
UID:0869fbb7-1b20-4514-b843-e4ce8ea90c32
DTSTART;VALUE=DATE:20221120
DTEND;VALUE=DATE:20221120
DESCRIPTION:Duke City BMX
LOCATION:1011 Buena Vista Dr Se  Albuquerque NM 87106 USA
SUMMARY:Local Race Single
URL:/site/bmx_races/490324
END:VEVENT
END:VCALENDAR
