BEGIN:VCALENDAR
VERSION:2.0
PRODID:icalendar-ruby
CALSCALE:GREGORIAN
METHOD:PUBLISH
BEGIN:VEVENT
DTSTAMP:20260424T200609Z
UID:50409fa2-c6b4-422c-88e0-a2ba9aa8cf0a
DTSTART;VALUE=DATE:20130429
DTEND;VALUE=DATE:20130429
DESCRIPTION:Daytona BMX
LOCATION:1670 Strickland Range Rd  Holly Hill FL 32117 USA
SUMMARY:Practice
URL:/site/bmx_races/49044
END:VEVENT
END:VCALENDAR
