BEGIN:VCALENDAR
VERSION:2.0
PRODID:icalendar-ruby
CALSCALE:GREGORIAN
METHOD:PUBLISH
BEGIN:VEVENT
DTSTAMP:20260424T170926Z
UID:7b8f316f-7543-4d37-b5df-9153345974f9
DTSTART;VALUE=DATE:20130603
DTEND;VALUE=DATE:20130603
DESCRIPTION:Daytona BMX
LOCATION:1670 Strickland Range Rd  Holly Hill FL 32117 USA
SUMMARY:Practice
URL:/site/bmx_races/49059
END:VEVENT
END:VCALENDAR
