BEGIN:VCALENDAR
VERSION:2.0
PRODID:icalendar-ruby
CALSCALE:GREGORIAN
METHOD:PUBLISH
BEGIN:VEVENT
DTSTAMP:20260423T180709Z
UID:789586f5-30e0-49b8-a587-d0adbfc1b5c7
DTSTART;VALUE=DATE:20220103
DTEND;VALUE=DATE:20220103
DESCRIPTION:Bellflower BMX
LOCATION:9030 Somerset Blvd  Bellflower CA 90706 USA
SUMMARY:Local Race Single
URL:/site/bmx_races/490916
END:VEVENT
END:VCALENDAR
