BEGIN:VCALENDAR
VERSION:2.0
PRODID:icalendar-ruby
CALSCALE:GREGORIAN
METHOD:PUBLISH
BEGIN:VEVENT
DTSTAMP:20260422T181015Z
UID:22807832-1962-4429-8039-319ff2ea2439
DTSTART;VALUE=DATE:20220716
DTEND;VALUE=DATE:20220716
DESCRIPTION:Mike Sedar BMX
LOCATION:789 College Dr  Casper WY 82601 USA
SUMMARY:Race for Life Double
URL:/site/bmx_races/491334
END:VEVENT
END:VCALENDAR
