BEGIN:VCALENDAR
VERSION:2.0
PRODID:icalendar-ruby
CALSCALE:GREGORIAN
METHOD:PUBLISH
BEGIN:VEVENT
DTSTAMP:20260420T100116Z
UID:7bc427e8-a688-45e2-a246-44faa8ef7d02
DTSTART;VALUE=DATE:20220131
DTEND;VALUE=DATE:20220131
DESCRIPTION:Yukon BMX
LOCATION:Taylor Park Sports Complex   410 N 11th St Yukon OK 73064 USA
SUMMARY:Practice
URL:/site/bmx_races/491872
END:VEVENT
END:VCALENDAR
