BEGIN:VCALENDAR
VERSION:2.0
PRODID:icalendar-ruby
CALSCALE:GREGORIAN
METHOD:PUBLISH
BEGIN:VEVENT
DTSTAMP:20260419T204840Z
UID:d3a264d8-7cb5-4894-934d-b60b92630085
DTSTART;VALUE=DATE:20220502
DTEND;VALUE=DATE:20220502
DESCRIPTION:Hagerstown BMX
LOCATION:Fairground Ave & Cross St  Hagerstown MD 21740 USA
SUMMARY:Local Race Single
URL:/site/bmx_races/491923
END:VEVENT
END:VCALENDAR
