BEGIN:VCALENDAR
VERSION:2.0
PRODID:icalendar-ruby
CALSCALE:GREGORIAN
METHOD:PUBLISH
BEGIN:VEVENT
DTSTAMP:20260422T095523Z
UID:c2555c06-7275-4d78-ad40-c0092a24db03
DTSTART;VALUE=DATE:20221207
DTEND;VALUE=DATE:20221207
DESCRIPTION:Hagerstown BMX
LOCATION:Fairground Ave & Cross St  Hagerstown MD 21740 USA
SUMMARY:Local Race Single
URL:/site/bmx_races/492014
END:VEVENT
END:VCALENDAR
