BEGIN:VCALENDAR
VERSION:2.0
PRODID:icalendar-ruby
CALSCALE:GREGORIAN
METHOD:PUBLISH
BEGIN:VEVENT
DTSTAMP:20260422T095523Z
UID:8317638b-8872-4ffa-bc8f-09e722ba35a5
DTSTART;VALUE=DATE:20221210
DTEND;VALUE=DATE:20221210
DESCRIPTION:Hagerstown BMX
LOCATION:Fairground Ave & Cross St  Hagerstown MD 21740 USA
SUMMARY:Local Race Single
URL:/site/bmx_races/492015
END:VEVENT
END:VCALENDAR
