BEGIN:VCALENDAR
VERSION:2.0
PRODID:icalendar-ruby
CALSCALE:GREGORIAN
METHOD:PUBLISH
BEGIN:VEVENT
DTSTAMP:20260419T214415Z
UID:500b5ec7-bb33-4fcd-a115-8299ccb53cec
DTSTART;VALUE=DATE:20220119
DTEND;VALUE=DATE:20220119
DESCRIPTION:Yuma BMX
LOCATION:3067 S Pacific Ave  Yuma AZ 85364 USA
SUMMARY:Local Race Single
URL:/site/bmx_races/492162
END:VEVENT
END:VCALENDAR
