BEGIN:VCALENDAR
VERSION:2.0
PRODID:icalendar-ruby
CALSCALE:GREGORIAN
METHOD:PUBLISH
BEGIN:VEVENT
DTSTAMP:20260423T040806Z
UID:11201931-799a-4c82-8f7d-d6fb6b9ad889
DTSTART;VALUE=DATE:20220115
DTEND;VALUE=DATE:20220115
DESCRIPTION:Rogue Valley BMX
LOCATION:Highland Drive  Medford OR 97504 USA
SUMMARY:Local Race Single
URL:/site/bmx_races/492204
END:VEVENT
END:VCALENDAR
