BEGIN:VCALENDAR
VERSION:2.0
PRODID:icalendar-ruby
CALSCALE:GREGORIAN
METHOD:PUBLISH
BEGIN:VEVENT
DTSTAMP:20260419T142350Z
UID:ef25893b-ee65-4cf0-b0d7-60a7086e1996
DTSTART;VALUE=DATE:20220220
DTEND;VALUE=DATE:20220220
DESCRIPTION:Circle City BMX
LOCATION:Westgate Park    100 Recreation Rd Dothan AL 36305 USA
SUMMARY:Local Race Single
URL:/site/bmx_races/492523
END:VEVENT
END:VCALENDAR
