BEGIN:VCALENDAR
VERSION:2.0
PRODID:icalendar-ruby
CALSCALE:GREGORIAN
METHOD:PUBLISH
BEGIN:VEVENT
DTSTAMP:20260421T204934Z
UID:c2ddf177-4046-4d16-9009-f349a6555bea
DTSTART;VALUE=DATE:20220320
DTEND;VALUE=DATE:20220320
DESCRIPTION:Circle City BMX
LOCATION:Westgate Park    100 Recreation Rd Dothan AL 36305 USA
SUMMARY:Local Race Single
URL:/site/bmx_races/492527
END:VEVENT
END:VCALENDAR
