BEGIN:VCALENDAR
VERSION:2.0
PRODID:icalendar-ruby
CALSCALE:GREGORIAN
METHOD:PUBLISH
BEGIN:VEVENT
DTSTAMP:20260421T153258Z
UID:ee3c1640-45f2-451f-a008-942c27851fe9
DTSTART;VALUE=DATE:20220609
DTEND;VALUE=DATE:20220609
DESCRIPTION:Circle City BMX
LOCATION:Westgate Park    100 Recreation Rd Dothan AL 36305 USA
SUMMARY:Local Race Single
URL:/site/bmx_races/492567
END:VEVENT
END:VCALENDAR
