BEGIN:VCALENDAR
VERSION:2.0
PRODID:icalendar-ruby
CALSCALE:GREGORIAN
METHOD:PUBLISH
BEGIN:VEVENT
DTSTAMP:20260421T103226Z
UID:8b16dd96-5116-4723-b1d1-bf33ded928f7
DTSTART;VALUE=DATE:20220927
DTEND;VALUE=DATE:20220927
DESCRIPTION:Circle City BMX
LOCATION:Westgate Park    100 Recreation Rd Dothan AL 36305 USA
SUMMARY:Practice
URL:/site/bmx_races/492598
END:VEVENT
END:VCALENDAR
