BEGIN:VCALENDAR
VERSION:2.0
PRODID:icalendar-ruby
CALSCALE:GREGORIAN
METHOD:PUBLISH
BEGIN:VEVENT
DTSTAMP:20260423T144736Z
UID:c9d4c4e5-548d-4cd6-9fff-292b2f0a905b
DTSTART;VALUE=DATE:20130807
DTEND;VALUE=DATE:20130807
DESCRIPTION:Cross Creek BMX
LOCATION:8115 Parkglen Dr.  Fountain CO 80817 USA
SUMMARY:Local Race Single
URL:/site/bmx_races/49356
END:VEVENT
END:VCALENDAR
