BEGIN:VCALENDAR
VERSION:2.0
PRODID:icalendar-ruby
CALSCALE:GREGORIAN
METHOD:PUBLISH
BEGIN:VEVENT
DTSTAMP:20260422T055607Z
UID:5c2f7aa5-6978-4db0-845b-bf50d70cc5a3
DTSTART;VALUE=DATE:20220123
DTEND;VALUE=DATE:20220123
DESCRIPTION:Grand Prix BMX at SoCal Fair
LOCATION:18700 Lake Perris Dr  Perris CA 92571 USA
SUMMARY:Local Race Single
URL:/site/bmx_races/493648
END:VEVENT
END:VCALENDAR
