BEGIN:VCALENDAR
VERSION:2.0
PRODID:icalendar-ruby
CALSCALE:GREGORIAN
METHOD:PUBLISH
BEGIN:VEVENT
DTSTAMP:20260423T135904Z
UID:37545158-dcb5-4a23-b8de-d094202855b7
DTSTART;VALUE=DATE:20220825
DTEND;VALUE=DATE:20220825
DESCRIPTION:Falcon BMX
LOCATION:Falcon Field 200 Westfield Road Meriden CT 06450 USA
SUMMARY:Local Race Single
URL:/site/bmx_races/493714
END:VEVENT
END:VCALENDAR
