BEGIN:VCALENDAR
VERSION:2.0
PRODID:icalendar-ruby
CALSCALE:GREGORIAN
METHOD:PUBLISH
BEGIN:VEVENT
DTSTAMP:20260424T100647Z
UID:b4839a7e-6576-4392-ae87-b4d507c4114d
DTSTART;VALUE=DATE:20220306
DTEND;VALUE=DATE:20220306
DESCRIPTION:Capital City BMX
LOCATION:516 Dennis Ave  Raleigh NC 27604 USA
SUMMARY:Local Race Single
URL:/site/bmx_races/493837
END:VEVENT
END:VCALENDAR
