BEGIN:VCALENDAR
VERSION:2.0
PRODID:icalendar-ruby
CALSCALE:GREGORIAN
METHOD:PUBLISH
BEGIN:VEVENT
DTSTAMP:20260424T072133Z
UID:58823dd7-b988-4ab8-b162-105909ae25d6
DTSTART;VALUE=DATE:20220212
DTEND;VALUE=DATE:20220212
DESCRIPTION:Chehalem Valley BMX
LOCATION:1201 Blaine St  Newberg OR 97132 USA
SUMMARY:Local Race Single
URL:/site/bmx_races/493861
END:VEVENT
END:VCALENDAR
