BEGIN:VCALENDAR
VERSION:2.0
PRODID:icalendar-ruby
CALSCALE:GREGORIAN
METHOD:PUBLISH
BEGIN:VEVENT
DTSTAMP:20260426T015933Z
UID:dce21c51-934e-432f-8566-ad3c418e436e
DTSTART;VALUE=DATE:20220213
DTEND;VALUE=DATE:20220213
DESCRIPTION:Chehalem Valley BMX
LOCATION:1201 Blaine St  Newberg OR 97132 USA
SUMMARY:Local Race Single
URL:/site/bmx_races/493862
END:VEVENT
END:VCALENDAR
