BEGIN:VCALENDAR
VERSION:2.0
PRODID:icalendar-ruby
CALSCALE:GREGORIAN
METHOD:PUBLISH
BEGIN:VEVENT
DTSTAMP:20260419T155526Z
UID:28874626-a7df-4244-9b47-b29bb08d05bd
DTSTART;VALUE=DATE:20220211
DTEND;VALUE=DATE:20220211
DESCRIPTION:St. Cloud BMX
LOCATION:2401 Peghorn Way  St. Cloud FL 34769 USA
SUMMARY:Local Race Single
URL:/site/bmx_races/493867
END:VEVENT
END:VCALENDAR
