BEGIN:VCALENDAR
VERSION:2.0
PRODID:icalendar-ruby
CALSCALE:GREGORIAN
METHOD:PUBLISH
BEGIN:VEVENT
DTSTAMP:20260422T163000Z
UID:d63374aa-09fd-42a4-8a10-aca285c943b7
DTSTART;VALUE=DATE:20220521
DTEND;VALUE=DATE:20220521
DESCRIPTION:Marysville BMX
LOCATION:618 N Main St  Marysville OH 43040 USA
SUMMARY:Local Race Single
URL:/site/bmx_races/493874
END:VEVENT
END:VCALENDAR
