BEGIN:VCALENDAR
VERSION:2.0
PRODID:icalendar-ruby
CALSCALE:GREGORIAN
METHOD:PUBLISH
BEGIN:VEVENT
DTSTAMP:20260422T133409Z
UID:492f0369-a8a2-4d51-aa34-4c6937daca07
DTSTART;VALUE=DATE:20220421
DTEND;VALUE=DATE:20220421
DESCRIPTION:Twin Silo BMX
LOCATION:5400 Ziegler Rd.   Ft Collins CO 80528 USA
SUMMARY:Local Race Single
URL:/site/bmx_races/493952
END:VEVENT
END:VCALENDAR
