BEGIN:VCALENDAR
VERSION:2.0
PRODID:icalendar-ruby
CALSCALE:GREGORIAN
METHOD:PUBLISH
BEGIN:VEVENT
DTSTAMP:20260422T071516Z
UID:14953f19-e1be-455f-9177-020bc1464628
DTSTART;VALUE=DATE:20220815
DTEND;VALUE=DATE:20220815
DESCRIPTION:Twin Silo BMX
LOCATION:5400 Ziegler Rd.   Ft Collins CO 80528 USA
SUMMARY:Practice
URL:/site/bmx_races/493998
END:VEVENT
END:VCALENDAR
