BEGIN:VCALENDAR
VERSION:2.0
PRODID:icalendar-ruby
CALSCALE:GREGORIAN
METHOD:PUBLISH
BEGIN:VEVENT
DTSTAMP:20260422T095912Z
UID:55ce5e57-b4fa-4eb5-b6c9-85f24ad368f2
DTSTART;VALUE=DATE:20220909
DTEND;VALUE=DATE:20220909
DESCRIPTION:First State BMX
LOCATION:1045 N Walnut St  Milford DE 19963 USA
SUMMARY:Race for Life Double
URL:/site/bmx_races/494166
END:VEVENT
END:VCALENDAR
